BEGIN:VCALENDAR
VERSION:2.0
PRODID:www.ifolor.staging.1up.io
BEGIN:VEVENT
UID:69e9e28e84a37
DTSTART;VALUE=DATE:20261218
SEQUENCE:0
TRANSP:OPAQUE
DTEND;VALUE=DATE:20261219
URL:https://www.ifolor.staging.1up.io/
SUMMARY:The ifolor advent calendar
CLASS:PUBLIC
DESCRIPTION:Win prizes every day!
X-MICROSOFT-CDO-ALLDAYEVENT:TRUE
DTSTAMP:20260423T091246Z
END:VEVENT
END:VCALENDAR