BEGIN:VCALENDAR
VERSION:2.0
PRODID:www.ifolor.staging.1up.io
BEGIN:VEVENT
UID:69e738c508dd2
DTSTART;VALUE=DATE:20261224
SEQUENCE:0
TRANSP:OPAQUE
DTEND;VALUE=DATE:20261225
URL:https://www.ifolor.staging.1up.io/
SUMMARY:The ifolor advent calendar
CLASS:PUBLIC
DESCRIPTION:Win prizes every day!
X-MICROSOFT-CDO-ALLDAYEVENT:TRUE
DTSTAMP:20260421T084349Z
END:VEVENT
END:VCALENDAR