BEGIN:VCALENDAR
VERSION:2.0
PRODID:www.ifolor.staging.1up.io
BEGIN:VEVENT
UID:69e737db7a24a
DTSTART;VALUE=DATE:20261213
SEQUENCE:0
TRANSP:OPAQUE
DTEND;VALUE=DATE:20261214
URL:https://www.ifolor.staging.1up.io/
SUMMARY:Calendario dell’Avvento ifolor
CLASS:PUBLIC
DESCRIPTION:Vinci un premio ogni giorno!
X-MICROSOFT-CDO-ALLDAYEVENT:TRUE
DTSTAMP:20260421T083955Z
END:VEVENT
END:VCALENDAR