BEGIN:VCALENDAR
VERSION:2.0
PRODID:www.ifolor.staging.1up.io
BEGIN:VEVENT
UID:69e9e1e4be493
DTSTART;VALUE=DATE:20261224
SEQUENCE:0
TRANSP:OPAQUE
DTEND;VALUE=DATE:20261225
URL:https://www.ifolor.staging.1up.io/
SUMMARY:Calendario dell’Avvento ifolor
CLASS:PUBLIC
DESCRIPTION:Vinci un premio ogni giorno!
X-MICROSOFT-CDO-ALLDAYEVENT:TRUE
DTSTAMP:20260423T090956Z
END:VEVENT
END:VCALENDAR